BEGIN:VCALENDAR
VERSION:2.0
PRODID:-//Tukios.com/
BEGIN:VEVENT
UID:aca2af20-84a8-456b-b4ca-c45c49d65cd8@www.sundquistfh.com
DTSTAMP:20260425T191400Z
DTSTART:20260502T150000Z
DTEND:20260502T160000Z
SUMMARY:Graveside Service
DESCRIPTION:
URL:https://www.sundquistfh.com/obituaries/spring-burials-2026
LOCATION: Route 3  Black River NY 
GEO:44.0059686;-75.7952937
END:VEVENT
END:VCALENDAR