BEGIN:VCALENDAR
VERSION:2.0
PRODID:-//Tukios.com/
BEGIN:VEVENT
UID:5dfe3df8-81ca-406d-ad3b-acbee8765967@www.sundquistfh.com
DTSTAMP:20260425T191728Z
DTSTART:20260502T160000Z
DTEND:20260502T170000Z
SUMMARY:Celebration of Life
DESCRIPTION:
URL:https://www.sundquistfh.com/obituaries/spring-burials-2026
LOCATION: 10 S Main Street  Adams NY 13605
GEO:43.806875;-76.0240554
END:VEVENT
END:VCALENDAR